BEGIN:VCALENDAR
VERSION:2.0
PRODID:-//Sauna California - ECPv5.16.4//NONSGML v1.0//EN
CALSCALE:GREGORIAN
METHOD:PUBLISH
X-WR-CALNAME:Sauna California
X-ORIGINAL-URL:https://www.saunacalifornia.com
X-WR-CALDESC:évènements pour Sauna California
BEGIN:VTIMEZONE
TZID:Europe/Paris
BEGIN:DAYLIGHT
TZOFFSETFROM:+0100
TZOFFSETTO:+0200
TZNAME:CEST
DTSTART:20260329T010000
END:DAYLIGHT
BEGIN:STANDARD
TZOFFSETFROM:+0200
TZOFFSETTO:+0100
TZNAME:CET
DTSTART:20261025T010000
END:STANDARD
END:VTIMEZONE
BEGIN:VEVENT
DTSTART;TZID=Europe/Paris:20260510T120000
DTEND;TZID=Europe/Paris:20260510T230000
DTSTAMP:20260423T234236
CREATED:20260422T111427Z
LAST-MODIFIED:20260422T111427Z
UID:22936-1778414400-1778454000@www.saunacalifornia.com
SUMMARY:Mousse Gay - Orgie Tea Dance
DESCRIPTION:Ouvert de midi à 23h – Mousse en fin d’après-midi !\n\nL’apogée de la semaine du California !!\n 
URL:https://www.saunacalifornia.com/agenda/mousse-gay-orgie-tea-dance-7-2-3-3-4-3-3-2-2-3-4-2-2-3-3-3-2-3-3-3-3-3-2-2-3-3-3-4-3-3-2-2-2-3-2-2-2-3-3-3-2-3-2-3-2-2-2/
LOCATION:Sauna California\, 7\, rue de Léon\, Rennes\, 35000\, France
CATEGORIES:Gay
ATTACH;FMTTYPE=image/png:https://www.saunacalifornia.com/wp-content/uploads/2026/04/IMG_5323.png
END:VEVENT
END:VCALENDAR