BEGIN:VCALENDAR
VERSION:2.0
PRODID:-//Sauna California - ECPv5.16.4//NONSGML v1.0//EN
CALSCALE:GREGORIAN
METHOD:PUBLISH
X-WR-CALNAME:Sauna California
X-ORIGINAL-URL:https://www.saunacalifornia.com
X-WR-CALDESC:évènements pour Sauna California
BEGIN:VTIMEZONE
TZID:Europe/Paris
BEGIN:DAYLIGHT
TZOFFSETFROM:+0100
TZOFFSETTO:+0200
TZNAME:CEST
DTSTART:20250330T010000
END:DAYLIGHT
BEGIN:STANDARD
TZOFFSETFROM:+0200
TZOFFSETTO:+0100
TZNAME:CET
DTSTART:20251026T010000
END:STANDARD
END:VTIMEZONE
BEGIN:VEVENT
DTSTART;TZID=Europe/Paris:20251115T200000
DTEND;TZID=Europe/Paris:20251116T010000
DTSTAMP:20260419T172045
CREATED:20251006T140819Z
LAST-MODIFIED:20251006T140819Z
UID:21889-1763236800-1763254800@www.saunacalifornia.com
SUMMARY:Mousse party mixte
DESCRIPTION:La Mousse Mixte est une soirée festive\, coquine\, sexy\, disco\, dédiée aux couples\, femmes et hommes\, hétéros ou bi. \n  \nUn des must du Sauna California !!
URL:https://www.saunacalifornia.com/agenda/mousse-party-mixte-6-2-3-4-3-3-4-2-3-2-2-2-2-2-2-3-3-3-2-2-4-2-3-2-2-2-3-3-3-3-3-3-2-2-3-2-2-2-3-3-2/
LOCATION:Sauna California\, 7\, rue de Léon\, Rennes\, 35000\, France
CATEGORIES:Mixte
ATTACH;FMTTYPE=image/jpeg:https://www.saunacalifornia.com/wp-content/uploads/2025/10/MOUSSE-MIXTE-nov25-V.jpg
END:VEVENT
END:VCALENDAR