BEGIN:VCALENDAR
VERSION:2.0
PRODID:-//Sauna California - ECPv5.16.4//NONSGML v1.0//EN
CALSCALE:GREGORIAN
METHOD:PUBLISH
X-WR-CALNAME:Sauna California
X-ORIGINAL-URL:https://www.saunacalifornia.com
X-WR-CALDESC:évènements pour Sauna California
BEGIN:VTIMEZONE
TZID:Europe/Paris
BEGIN:DAYLIGHT
TZOFFSETFROM:+0100
TZOFFSETTO:+0200
TZNAME:CEST
DTSTART:20250330T010000
END:DAYLIGHT
BEGIN:STANDARD
TZOFFSETFROM:+0200
TZOFFSETTO:+0100
TZNAME:CET
DTSTART:20251026T010000
END:STANDARD
END:VTIMEZONE
BEGIN:VEVENT
DTSTART;TZID=Europe/Paris:20251112T200000
DTEND;TZID=Europe/Paris:20251113T000000
DTSTAMP:20260420T021020
CREATED:20251006T135252Z
LAST-MODIFIED:20251006T135252Z
UID:21865-1762977600-1762992000@www.saunacalifornia.com
SUMMARY:Total Eclipse
DESCRIPTION:Sauna (serviette) jusqu’à 20h. \n  \nPuis passage en Total Eclipse… \n  \nSensuel\, sexuel\, déroutant…
URL:https://www.saunacalifornia.com/agenda/total-eclipse-2-2-3-2-2-3-2-2-2-3-2-3-2-2-2-3-2-2-2-2-2-2-2-2-3-2-2-2-2-2-2-2-2-2-3-2-2-2-2-2-2-2/
CATEGORIES:Gay
ATTACH;FMTTYPE=image/jpeg:https://www.saunacalifornia.com/wp-content/uploads/2025/10/TOTAL-Eclipse-nov25-V.jpg
END:VEVENT
END:VCALENDAR